BEGIN:VCALENDAR
PRODID:-//nuDatenautomaten//framework iCal4j //DE
VERSION:2.0
CALSCALE:GREGORIAN
BEGIN:VTIMEZONE
TZID:Europe/Berlin
LAST-MODIFIED:20260306T231828Z
TZURL:https://www.tzurl.org/zoneinfo/Europe/Berlin
X-LIC-LOCATION:Europe/Berlin
X-PROLEPTIC-TZNAME:LMT
BEGIN:STANDARD
TZNAME:CET
TZOFFSETFROM:+005328
TZOFFSETTO:+0100
DTSTART:18930401T000000
END:STANDARD
BEGIN:DAYLIGHT
TZNAME:CEST
TZOFFSETFROM:+0100
TZOFFSETTO:+0200
DTSTART:19160430T230000
RDATE:19400401T020000
RDATE:19430329T020000
RDATE:19460414T020000
RDATE:19470406T030000
RDATE:19480418T020000
RDATE:19490410T020000
RDATE:19800406T020000
END:DAYLIGHT
BEGIN:STANDARD
TZNAME:CET
TZOFFSETFROM:+0200
TZOFFSETTO:+0100
DTSTART:19161001T010000
RDATE:19421102T030000
RDATE:19431004T030000
RDATE:19441002T030000
RDATE:19451118T030000
RDATE:19461007T030000
END:STANDARD
BEGIN:DAYLIGHT
TZNAME:CEST
TZOFFSETFROM:+0100
TZOFFSETTO:+0200
DTSTART:19170416T020000
RRULE:FREQ=YEARLY;UNTIL=19180415T010000Z;BYMONTH=4;BYDAY=3MO
END:DAYLIGHT
BEGIN:STANDARD
TZNAME:CET
TZOFFSETFROM:+0200
TZOFFSETTO:+0100
DTSTART:19170917T030000
RRULE:FREQ=YEARLY;UNTIL=19180916T010000Z;BYMONTH=9;BYDAY=3MO
END:STANDARD
BEGIN:DAYLIGHT
TZNAME:CEST
TZOFFSETFROM:+0100
TZOFFSETTO:+0200
DTSTART:19440403T020000
RRULE:FREQ=YEARLY;UNTIL=19450402T010000Z;BYMONTH=4;BYDAY=1MO
END:DAYLIGHT
BEGIN:DAYLIGHT
TZNAME:CEMT
TZOFFSETFROM:+0200
TZOFFSETTO:+0300
DTSTART:19450524T020000
RDATE:19470511T030000
END:DAYLIGHT
BEGIN:DAYLIGHT
TZNAME:CEST
TZOFFSETFROM:+0300
TZOFFSETTO:+0200
DTSTART:19450924T030000
RDATE:19470629T030000
END:DAYLIGHT
BEGIN:STANDARD
TZNAME:CET
TZOFFSETFROM:+0100
TZOFFSETTO:+0100
DTSTART:19460101T000000
RDATE:19800101T000000
END:STANDARD
BEGIN:STANDARD
TZNAME:CET
TZOFFSETFROM:+0200
TZOFFSETTO:+0100
DTSTART:19471005T030000
RRULE:FREQ=YEARLY;UNTIL=19491002T010000Z;BYMONTH=10;BYDAY=1SU
END:STANDARD
BEGIN:STANDARD
TZNAME:CET
TZOFFSETFROM:+0200
TZOFFSETTO:+0100
DTSTART:19800928T030000
RRULE:FREQ=YEARLY;UNTIL=19950924T010000Z;BYMONTH=9;BYDAY=-1SU
END:STANDARD
BEGIN:DAYLIGHT
TZNAME:CEST
TZOFFSETFROM:+0100
TZOFFSETTO:+0200
DTSTART:19810329T020000
RRULE:FREQ=YEARLY;BYMONTH=3;BYDAY=-1SU
END:DAYLIGHT
BEGIN:STANDARD
TZNAME:CET
TZOFFSETFROM:+0200
TZOFFSETTO:+0100
DTSTART:19961027T030000
RRULE:FREQ=YEARLY;BYMONTH=10;BYDAY=-1SU
END:STANDARD
END:VTIMEZONE
BEGIN:VEVENT
DTSTAMP:20260423T192656Z
DTSTART;TZID=Europe/Berlin:20130315T193000
DTEND;TZID=Europe/Berlin:20130315T223000
SUMMARY:1. Kreisliga Staffel A TSV 1913 Kühren II vs TTV 1990 Wurzen IV (79)
UID:600e4e55-61e1-3ce1-e053-1fc7a80a6bb5
STATUS:CONFIRMED
LAST-MODIFIED:20160129T101431Z
DESCRIPTION:1. Kreisliga Herren Staffel A\nBegegnungs-Nr: 79\nHeim: TSV 1913 Kühren II\nGast: TTV 1990 Wurzen IV\n
LOCATION:
CATEGORIES:Saison 2012/13
END:VEVENT
BEGIN:VEVENT
DTSTAMP:20260423T192656Z
DTSTART;TZID=Europe/Berlin:20130322T193000
DTEND;TZID=Europe/Berlin:20130322T223000
SUMMARY:1. Kreisliga Staffel A TSV 1913 Kühren II vs TSV Fremdiswalde II (85)
UID:600e4e55-61e2-3ce1-e053-1fc7a80a6bb5
STATUS:CONFIRMED
LAST-MODIFIED:20160129T101432Z
DESCRIPTION:1. Kreisliga Herren Staffel A\nBegegnungs-Nr: 85\nHeim: TSV 1913 Kühren II\nGast: TSV Fremdiswalde II\n
LOCATION:
CATEGORIES:Saison 2012/13
END:VEVENT
BEGIN:VEVENT
DTSTAMP:20260423T192656Z
DTSTART;TZID=Europe/Berlin:20120921T193000
DTEND;TZID=Europe/Berlin:20120921T223000
SUMMARY:1. Kreisliga Staffel A TSV 1913 Kühren II vs TSV Einheit Grimma  (5)
UID:600e4e55-69a9-3ce1-e053-1fc7a80a6bb5
STATUS:CONFIRMED
LAST-MODIFIED:20160129T101431Z
DESCRIPTION:1. Kreisliga Herren Staffel A\nBegegnungs-Nr: 5\nHeim: TSV 1913 Kühren II\nGast: TSV Einheit Grimma \n
LOCATION:
CATEGORIES:Saison 2012/13
END:VEVENT
BEGIN:VEVENT
DTSTAMP:20260423T192656Z
DTSTART;TZID=Europe/Berlin:20121019T193000
DTEND;TZID=Europe/Berlin:20121019T223000
SUMMARY:1. Kreisliga Staffel A TSV 1913 Kühren II vs SV Borsdorf III (20)
UID:600e4e4d-3f97-3ce1-e053-1fc7a80a6bb5
STATUS:CONFIRMED
LAST-MODIFIED:20160129T101431Z
DESCRIPTION:1. Kreisliga Herren Staffel A\nBegegnungs-Nr: 20\nHeim: TSV 1913 Kühren II\nGast: SV Borsdorf III\n
LOCATION:
CATEGORIES:Saison 2012/13
END:VEVENT
BEGIN:VEVENT
DTSTAMP:20260423T192656Z
DTSTART;TZID=Europe/Berlin:20130118T193000
DTEND;TZID=Europe/Berlin:20130118T223000
SUMMARY:1. Kreisliga Staffel A TSV 1913 Kühren II vs SV Tresenwald II (54)
UID:600e4e4d-48ce-3ce1-e053-1fc7a80a6bb5
STATUS:CONFIRMED
LAST-MODIFIED:20160129T101431Z
DESCRIPTION:1. Kreisliga Herren Staffel A\nBegegnungs-Nr: 54\nHeim: TSV 1913 Kühren II\nGast: SV Tresenwald II\n
LOCATION:
CATEGORIES:Saison 2012/13
END:VEVENT
BEGIN:VEVENT
DTSTAMP:20260423T192656Z
DTSTART;TZID=Europe/Berlin:20130222T193000
DTEND;TZID=Europe/Berlin:20130222T223000
SUMMARY:1. Kreisliga Staffel A TSV 1913 Kühren II vs TTV 96 Grimma IV (65)
UID:600e4e4d-4d5b-3ce1-e053-1fc7a80a6bb5
STATUS:CONFIRMED
LAST-MODIFIED:20160129T101431Z
DESCRIPTION:1. Kreisliga Herren Staffel A\nBegegnungs-Nr: 65\nHeim: TSV 1913 Kühren II\nGast: TTV 96 Grimma IV\n
LOCATION:
CATEGORIES:Saison 2012/13
END:VEVENT
BEGIN:VEVENT
DTSTAMP:20260423T192656Z
DTSTART;TZID=Europe/Berlin:20130301T193000
DTEND;TZID=Europe/Berlin:20130301T223000
SUMMARY:1. Kreisliga Staffel A TSV 1913 Kühren II vs Brandiser TTC IV (70)
UID:600e4e4d-4d60-3ce1-e053-1fc7a80a6bb5
STATUS:CONFIRMED
LAST-MODIFIED:20160129T101431Z
DESCRIPTION:1. Kreisliga Herren Staffel A\nBegegnungs-Nr: 70\nHeim: TSV 1913 Kühren II\nGast: Brandiser TTC IV\n
LOCATION:
CATEGORIES:Saison 2012/13
END:VEVENT
BEGIN:VEVENT
DTSTAMP:20260423T192656Z
DTSTART;TZID=Europe/Berlin:20130308T193000
DTEND;TZID=Europe/Berlin:20130308T223000
SUMMARY:1. Kreisliga Staffel A TSV 1913 Kühren II vs Ammelshainer TTV  (75)
UID:600e4e4d-4d64-3ce1-e053-1fc7a80a6bb5
STATUS:CONFIRMED
LAST-MODIFIED:20160129T101431Z
DESCRIPTION:1. Kreisliga Herren Staffel A\nBegegnungs-Nr: 75\nHeim: TSV 1913 Kühren II\nGast: Ammelshainer TTV \n
LOCATION:
CATEGORIES:Saison 2012/13
END:VEVENT
BEGIN:VEVENT
DTSTAMP:20260423T192656Z
DTSTART;TZID=Europe/Berlin:20130412T193000
DTEND;TZID=Europe/Berlin:20130412T223000
SUMMARY:1. Kreisliga Staffel A TSV 1913 Kühren II vs TTC 1956 Colditz III (87)
UID:600e4e4d-4d6d-3ce1-e053-1fc7a80a6bb5
STATUS:CONFIRMED
LAST-MODIFIED:20160129T101432Z
DESCRIPTION:1. Kreisliga Herren Staffel A\nBegegnungs-Nr: 87\nHeim: TSV 1913 Kühren II\nGast: TTC 1956 Colditz III\n
LOCATION:
CATEGORIES:Saison 2012/13
END:VEVENT
BEGIN:VEVENT
DTSTAMP:20260423T192656Z
DTSTART;TZID=Europe/Berlin:20121109T190000
DTEND;TZID=Europe/Berlin:20121109T220000
SUMMARY:1. Kreisliga Staffel A Brandiser TTC IV vs TSV 1913 Kühren II (24)
UID:600e4e55-4e47-3ce1-e053-1fc7a80a6bb5
STATUS:CONFIRMED
LAST-MODIFIED:20160129T101431Z
DESCRIPTION:1. Kreisliga Herren Staffel A\nBegegnungs-Nr: 24\nHeim: Brandiser TTC IV\nGast: TSV 1913 Kühren II\n
LOCATION:
CATEGORIES:Saison 2012/13
END:VEVENT
BEGIN:VEVENT
DTSTAMP:20260423T192656Z
DTSTART;TZID=Europe/Berlin:20121015T183000
DTEND;TZID=Europe/Berlin:20121015T213000
SUMMARY:1. Kreisliga Staffel A TTV 96 Grimma IV vs TSV 1913 Kühren II (12)
UID:600e4e4d-3f8f-3ce1-e053-1fc7a80a6bb5
STATUS:CONFIRMED
LAST-MODIFIED:20160129T101430Z
DESCRIPTION:1. Kreisliga Herren Staffel A\nBegegnungs-Nr: 12\nHeim: TTV 96 Grimma IV\nGast: TSV 1913 Kühren II\n
LOCATION:
CATEGORIES:Saison 2012/13
END:VEVENT
BEGIN:VEVENT
DTSTAMP:20260423T192656Z
DTSTART;TZID=Europe/Berlin:20121116T193000
DTEND;TZID=Europe/Berlin:20121116T223000
SUMMARY:1. Kreisliga Staffel A Ammelshainer TTV  vs TSV 1913 Kühren II (29)
UID:600e4e4d-3f9e-3ce1-e053-1fc7a80a6bb5
STATUS:CONFIRMED
LAST-MODIFIED:20160129T101431Z
DESCRIPTION:1. Kreisliga Herren Staffel A\nBegegnungs-Nr: 29\nHeim: Ammelshainer TTV \nGast: TSV 1913 Kühren II\n
LOCATION:
CATEGORIES:Saison 2012/13
END:VEVENT
BEGIN:VEVENT
DTSTAMP:20260423T192656Z
DTSTART;TZID=Europe/Berlin:20121126T190000
DTEND;TZID=Europe/Berlin:20121126T220000
SUMMARY:1. Kreisliga Staffel A TTV 1990 Wurzen IV vs TSV 1913 Kühren II (31)
UID:600e4e4d-4429-3ce1-e053-1fc7a80a6bb5
STATUS:CONFIRMED
LAST-MODIFIED:20160129T101431Z
DESCRIPTION:1. Kreisliga Herren Staffel A\nBegegnungs-Nr: 31\nHeim: TTV 1990 Wurzen IV\nGast: TSV 1913 Kühren II\n
LOCATION:
CATEGORIES:Saison 2012/13
END:VEVENT
BEGIN:VEVENT
DTSTAMP:20260423T192656Z
DTSTART;TZID=Europe/Berlin:20121206T190000
DTEND;TZID=Europe/Berlin:20121206T220000
SUMMARY:1. Kreisliga Staffel A TTC 1956 Colditz III vs TSV 1913 Kühren II (39)
UID:600e4e4d-4430-3ce1-e053-1fc7a80a6bb5
STATUS:CONFIRMED
LAST-MODIFIED:20160129T101431Z
DESCRIPTION:1. Kreisliga Herren Staffel A\nBegegnungs-Nr: 39\nHeim: TTC 1956 Colditz III\nGast: TSV 1913 Kühren II\n
LOCATION:
CATEGORIES:Saison 2012/13
END:VEVENT
BEGIN:VEVENT
DTSTAMP:20260423T192656Z
DTSTART;TZID=Europe/Berlin:20121214T190000
DTEND;TZID=Europe/Berlin:20121214T220000
SUMMARY:1. Kreisliga Staffel A TSV Fremdiswalde II vs TSV 1913 Kühren II (43)
UID:600e4e4d-4434-3ce1-e053-1fc7a80a6bb5
STATUS:CONFIRMED
LAST-MODIFIED:20160129T101431Z
DESCRIPTION:1. Kreisliga Herren Staffel A\nBegegnungs-Nr: 43\nHeim: TSV Fremdiswalde II\nGast: TSV 1913 Kühren II\n
LOCATION:
CATEGORIES:Saison 2012/13
END:VEVENT
BEGIN:VEVENT
DTSTAMP:20260423T192656Z
DTSTART;TZID=Europe/Berlin:20120927T190000
DTEND;TZID=Europe/Berlin:20120927T220000
SUMMARY:1. Kreisliga Staffel A SV Tresenwald II vs TSV 1913 Kühren II (8)
UID:600e4e4d-4439-3ce1-e053-1fc7a80a6bb5
STATUS:CONFIRMED
LAST-MODIFIED:20160129T101431Z
DESCRIPTION:1. Kreisliga Herren Staffel A\nBegegnungs-Nr: 8\nHeim: SV Tresenwald II\nGast: TSV 1913 Kühren II\n
LOCATION:
CATEGORIES:Saison 2012/13
END:VEVENT
BEGIN:VEVENT
DTSTAMP:20260423T192656Z
DTSTART;TZID=Europe/Berlin:20130111T193000
DTEND;TZID=Europe/Berlin:20130111T223000
SUMMARY:1. Kreisliga Staffel A TSV Einheit Grimma  vs TSV 1913 Kühren II (49)
UID:600e4e4d-48ca-3ce1-e053-1fc7a80a6bb5
STATUS:CONFIRMED
LAST-MODIFIED:20160129T101431Z
DESCRIPTION:1. Kreisliga Herren Staffel A\nBegegnungs-Nr: 49\nHeim: TSV Einheit Grimma \nGast: TSV 1913 Kühren II\n
LOCATION:
CATEGORIES:Saison 2012/13
END:VEVENT
BEGIN:VEVENT
DTSTAMP:20260423T192656Z
DTSTART;TZID=Europe/Berlin:20130122T190000
DTEND;TZID=Europe/Berlin:20130122T220000
SUMMARY:1. Kreisliga Staffel A SV Borsdorf III vs TSV 1913 Kühren II (58)
UID:600e4e4d-48d2-3ce1-e053-1fc7a80a6bb5
STATUS:CONFIRMED
LAST-MODIFIED:20160129T101431Z
DESCRIPTION:1. Kreisliga Herren Staffel A\nBegegnungs-Nr: 58\nHeim: SV Borsdorf III\nGast: TSV 1913 Kühren II\n
LOCATION:
CATEGORIES:Saison 2012/13
END:VEVENT
END:VCALENDAR
